BEGIN:VCALENDAR
VERSION:2.0
PRODID:-//Sportverein Lauenbrück - ECPv6.15.20//NONSGML v1.0//EN
CALSCALE:GREGORIAN
METHOD:PUBLISH
X-WR-CALNAME:Sportverein Lauenbrück
X-ORIGINAL-URL:https://sportverein-lauenbrueck.de
X-WR-CALDESC:Veranstaltungen für Sportverein Lauenbrück
REFRESH-INTERVAL;VALUE=DURATION:PT1H
X-Robots-Tag:noindex
X-PUBLISHED-TTL:PT1H
BEGIN:VTIMEZONE
TZID:Europe/Berlin
BEGIN:DAYLIGHT
TZOFFSETFROM:+0100
TZOFFSETTO:+0200
TZNAME:CEST
DTSTART:20120325T010000
END:DAYLIGHT
BEGIN:STANDARD
TZOFFSETFROM:+0200
TZOFFSETTO:+0100
TZNAME:CET
DTSTART:20121028T010000
END:STANDARD
BEGIN:DAYLIGHT
TZOFFSETFROM:+0100
TZOFFSETTO:+0200
TZNAME:CEST
DTSTART:20130331T010000
END:DAYLIGHT
BEGIN:STANDARD
TZOFFSETFROM:+0200
TZOFFSETTO:+0100
TZNAME:CET
DTSTART:20131027T010000
END:STANDARD
BEGIN:DAYLIGHT
TZOFFSETFROM:+0100
TZOFFSETTO:+0200
TZNAME:CEST
DTSTART:20140330T010000
END:DAYLIGHT
BEGIN:STANDARD
TZOFFSETFROM:+0200
TZOFFSETTO:+0100
TZNAME:CET
DTSTART:20141026T010000
END:STANDARD
END:VTIMEZONE
BEGIN:VEVENT
DTSTART;TZID=Europe/Berlin:20130811T110000
DTEND;TZID=Europe/Berlin:20130811T230000
DTSTAMP:20260426T044305
CREATED:20130731T122436Z
LAST-MODIFIED:20130731T122436Z
UID:1193-1376218800-1376262000@sportverein-lauenbrueck.de
SUMMARY:Straßenfußballturnier 2013
DESCRIPTION:Straßenfußballturnier in Lauenbrück.\nZum Bericht kommst du HIER…
URL:https://sportverein-lauenbrueck.de/event/strasenfusballturnier-2013/
ATTACH;FMTTYPE=image/png:https://sportverein-lauenbrueck.de/wp-content/uploads/2013/07/Unbenannt.png
END:VEVENT
END:VCALENDAR