BEGIN:VCALENDAR
VERSION:2.0
PRODID:-//Sportverein Lauenbrück - ECPv6.15.20//NONSGML v1.0//EN
CALSCALE:GREGORIAN
METHOD:PUBLISH
X-WR-CALNAME:Sportverein Lauenbrück
X-ORIGINAL-URL:https://sportverein-lauenbrueck.de
X-WR-CALDESC:Veranstaltungen für Sportverein Lauenbrück
REFRESH-INTERVAL;VALUE=DURATION:PT1H
X-Robots-Tag:noindex
X-PUBLISHED-TTL:PT1H
BEGIN:VTIMEZONE
TZID:Europe/Berlin
BEGIN:DAYLIGHT
TZOFFSETFROM:+0100
TZOFFSETTO:+0200
TZNAME:CEST
DTSTART:20160327T010000
END:DAYLIGHT
BEGIN:STANDARD
TZOFFSETFROM:+0200
TZOFFSETTO:+0100
TZNAME:CET
DTSTART:20161030T010000
END:STANDARD
BEGIN:DAYLIGHT
TZOFFSETFROM:+0100
TZOFFSETTO:+0200
TZNAME:CEST
DTSTART:20170326T010000
END:DAYLIGHT
BEGIN:STANDARD
TZOFFSETFROM:+0200
TZOFFSETTO:+0100
TZNAME:CET
DTSTART:20171029T010000
END:STANDARD
BEGIN:DAYLIGHT
TZOFFSETFROM:+0100
TZOFFSETTO:+0200
TZNAME:CEST
DTSTART:20180325T010000
END:DAYLIGHT
BEGIN:STANDARD
TZOFFSETFROM:+0200
TZOFFSETTO:+0100
TZNAME:CET
DTSTART:20181028T010000
END:STANDARD
END:VTIMEZONE
BEGIN:VEVENT
DTSTART;TZID=Europe/Berlin:20170908T193000
DTEND;TZID=Europe/Berlin:20170908T211500
DTSTAMP:20260420T101857
CREATED:20170814T104348Z
LAST-MODIFIED:20170814T104348Z
UID:4360-1504899000-1504905300@sportverein-lauenbrueck.de
SUMMARY:4.Spieltag: VFL Sittensen - SV Lauenbrück
DESCRIPTION:
URL:https://sportverein-lauenbrueck.de/event/4-spieltag-vfl-sittensen-sv-lauenbrueck/
LOCATION:Sportplatz Sittensen\, Am Sportplatz\, Sittensen\, Niedersachsen\, 27419\, Deutschland
END:VEVENT
BEGIN:VEVENT
DTSTART;TZID=Europe/Berlin:20170917T150000
DTEND;TZID=Europe/Berlin:20170917T170000
DTSTAMP:20260420T101857
CREATED:20170814T104503Z
LAST-MODIFIED:20170914T105210Z
UID:4362-1505660400-1505667600@sportverein-lauenbrueck.de
SUMMARY:6.Spieltag: SV Lauenbrück - MTV Jeddingen
DESCRIPTION:
URL:https://sportverein-lauenbrueck.de/event/5-spieltag-sv-lauenbrueck-mtv-jeddingen/
LOCATION:Sportplatz Lauenbrück\, Am Sportplatz 1\, Lauenbrück\, Niedersachsen\, 27389\, Deutschland
END:VEVENT
BEGIN:VEVENT
DTSTART;TZID=Europe/Berlin:20170924T150000
DTEND;TZID=Europe/Berlin:20170924T170000
DTSTAMP:20260420T101857
CREATED:20170914T104932Z
LAST-MODIFIED:20170914T104932Z
UID:4382-1506265200-1506272400@sportverein-lauenbrueck.de
SUMMARY:7.Spieltag: TV Hassendorf - SV Lauenbrück
DESCRIPTION:
URL:https://sportverein-lauenbrueck.de/event/7-spieltag-tv-hassendorf-sv-lauenbrueck/
LOCATION:Sportplatz Hassendorf\, Weißer Moorweg\, Hassendorf\, 27367\, Deutschland
END:VEVENT
END:VCALENDAR