BEGIN:VCALENDAR
VERSION:2.0
PRODID:-//Sportverein Lauenbrück - ECPv6.15.20//NONSGML v1.0//EN
CALSCALE:GREGORIAN
METHOD:PUBLISH
X-WR-CALNAME:Sportverein Lauenbrück
X-ORIGINAL-URL:https://sportverein-lauenbrueck.de
X-WR-CALDESC:Veranstaltungen für Sportverein Lauenbrück
REFRESH-INTERVAL;VALUE=DURATION:PT1H
X-Robots-Tag:noindex
X-PUBLISHED-TTL:PT1H
BEGIN:VTIMEZONE
TZID:Europe/Berlin
BEGIN:DAYLIGHT
TZOFFSETFROM:+0100
TZOFFSETTO:+0200
TZNAME:CEST
DTSTART:20160327T010000
END:DAYLIGHT
BEGIN:STANDARD
TZOFFSETFROM:+0200
TZOFFSETTO:+0100
TZNAME:CET
DTSTART:20161030T010000
END:STANDARD
BEGIN:DAYLIGHT
TZOFFSETFROM:+0100
TZOFFSETTO:+0200
TZNAME:CEST
DTSTART:20170326T010000
END:DAYLIGHT
BEGIN:STANDARD
TZOFFSETFROM:+0200
TZOFFSETTO:+0100
TZNAME:CET
DTSTART:20171029T010000
END:STANDARD
BEGIN:DAYLIGHT
TZOFFSETFROM:+0100
TZOFFSETTO:+0200
TZNAME:CEST
DTSTART:20180325T010000
END:DAYLIGHT
BEGIN:STANDARD
TZOFFSETFROM:+0200
TZOFFSETTO:+0100
TZNAME:CET
DTSTART:20181028T010000
END:STANDARD
END:VTIMEZONE
BEGIN:VEVENT
DTSTART;TZID=Europe/Berlin:20170507T150000
DTEND;TZID=Europe/Berlin:20170507T164500
DTSTAMP:20260420T163139
CREATED:20170327T122645Z
LAST-MODIFIED:20170327T122645Z
UID:4163-1494169200-1494175500@sportverein-lauenbrueck.de
SUMMARY:SV Lauenbrück - TuS Brockel
DESCRIPTION:
URL:https://sportverein-lauenbrueck.de/event/sv-lauenbrueck-tus-brockel-3/
LOCATION:Sportplatz Lauenbrück\, Am Sportplatz 1\, Lauenbrück\, Niedersachsen\, 27389\, Deutschland
END:VEVENT
BEGIN:VEVENT
DTSTART;TZID=Europe/Berlin:20170514T150000
DTEND;TZID=Europe/Berlin:20170514T164500
DTSTAMP:20260420T163139
CREATED:20170327T123048Z
LAST-MODIFIED:20170327T123048Z
UID:4165-1494774000-1494780300@sportverein-lauenbrueck.de
SUMMARY:SV Lauenbrück - SV Taaken
DESCRIPTION:
URL:https://sportverein-lauenbrueck.de/event/sv-lauenbrueck-sv-taaken/
LOCATION:Sportplatz Lauenbrück\, Am Sportplatz 1\, Lauenbrück\, Niedersachsen\, 27389\, Deutschland
END:VEVENT
BEGIN:VEVENT
DTSTART;TZID=Europe/Berlin:20170521T150000
DTEND;TZID=Europe/Berlin:20170521T164500
DTSTAMP:20260420T163139
CREATED:20170327T123159Z
LAST-MODIFIED:20170327T123457Z
UID:4167-1495378800-1495385100@sportverein-lauenbrueck.de
SUMMARY:TuS Mulmshorn - SV Lauenbrück
DESCRIPTION:
URL:https://sportverein-lauenbrueck.de/event/tus-mulmshorn-sv-lauenbrueck/
LOCATION:Sportplatz Mulmshorn\, Zum Glind\, Mulmshorn\, Niedersachsen\, 27356\, Deutschland
END:VEVENT
BEGIN:VEVENT
DTSTART;TZID=Europe/Berlin:20170527T153000
DTEND;TZID=Europe/Berlin:20170527T171500
DTSTAMP:20260420T163139
CREATED:20170327T123335Z
LAST-MODIFIED:20170327T123335Z
UID:4169-1495899000-1495905300@sportverein-lauenbrueck.de
SUMMARY:SV Lauenbrück - SV RW Scheeßel II
DESCRIPTION:
URL:https://sportverein-lauenbrueck.de/event/sv-lauenbrueck-sv-rw-scheessel-ii-2/
LOCATION:Sportplatz Lauenbrück\, Am Sportplatz 1\, Lauenbrück\, Niedersachsen\, 27389\, Deutschland
END:VEVENT
BEGIN:VEVENT
DTSTART;TZID=Europe/Berlin:20170527T173000
DTEND;TZID=Europe/Berlin:20170528T030000
DTSTAMP:20260420T163139
CREATED:20170522T111618Z
LAST-MODIFIED:20170522T111618Z
UID:4263-1495906200-1495940400@sportverein-lauenbrueck.de
SUMMARY:Meisterfeier
DESCRIPTION:
URL:https://sportverein-lauenbrueck.de/event/meisterfeier/
LOCATION:Sportplatz Lauenbrück\, Am Sportplatz 1\, Lauenbrück\, Niedersachsen\, 27389\, Deutschland
ATTACH;FMTTYPE=image/jpeg:https://sportverein-lauenbrueck.de/wp-content/uploads/2017/05/IMG-20170521-WA0005.jpg
END:VEVENT
END:VCALENDAR