BEGIN:VCALENDAR
VERSION:2.0
PRODID:-//Sportverein Lauenbrück - ECPv6.15.20//NONSGML v1.0//EN
CALSCALE:GREGORIAN
METHOD:PUBLISH
X-ORIGINAL-URL:https://sportverein-lauenbrueck.de
X-WR-CALDESC:Veranstaltungen für Sportverein Lauenbrück
REFRESH-INTERVAL;VALUE=DURATION:PT1H
X-Robots-Tag:noindex
X-PUBLISHED-TTL:PT1H
BEGIN:VTIMEZONE
TZID:Europe/Berlin
BEGIN:DAYLIGHT
TZOFFSETFROM:+0100
TZOFFSETTO:+0200
TZNAME:CEST
DTSTART:20160327T010000
END:DAYLIGHT
BEGIN:STANDARD
TZOFFSETFROM:+0200
TZOFFSETTO:+0100
TZNAME:CET
DTSTART:20161030T010000
END:STANDARD
BEGIN:DAYLIGHT
TZOFFSETFROM:+0100
TZOFFSETTO:+0200
TZNAME:CEST
DTSTART:20170326T010000
END:DAYLIGHT
BEGIN:STANDARD
TZOFFSETFROM:+0200
TZOFFSETTO:+0100
TZNAME:CET
DTSTART:20171029T010000
END:STANDARD
BEGIN:DAYLIGHT
TZOFFSETFROM:+0100
TZOFFSETTO:+0200
TZNAME:CEST
DTSTART:20180325T010000
END:DAYLIGHT
BEGIN:STANDARD
TZOFFSETFROM:+0200
TZOFFSETTO:+0100
TZNAME:CET
DTSTART:20181028T010000
END:STANDARD
END:VTIMEZONE
BEGIN:VEVENT
DTSTART;TZID=Europe/Berlin:20170303T193000
DTEND;TZID=Europe/Berlin:20170303T211500
DTSTAMP:20260420T213355
CREATED:20170124T171109Z
LAST-MODIFIED:20170124T171109Z
UID:4038-1488569400-1488575700@sportverein-lauenbrueck.de
SUMMARY:Testspiel: SV Lauenbrück - BW Westervesede
DESCRIPTION:
URL:https://sportverein-lauenbrueck.de/event/testspiel-sv-lauenbrueck-bw-westervesede/
LOCATION:Sportplatz Lauenbrück\, Am Sportplatz 1\, Lauenbrück\, Niedersachsen\, 27389\, Deutschland
ATTACH;FMTTYPE=image/jpeg:https://sportverein-lauenbrueck.de/wp-content/uploads/2016/07/Testspiel.jpg
END:VEVENT
BEGIN:VEVENT
DTSTART;TZID=Europe/Berlin:20170312T130000
DTEND;TZID=Europe/Berlin:20170312T144500
DTSTAMP:20260420T213355
CREATED:20161205T110219Z
LAST-MODIFIED:20161205T110242Z
UID:3998-1489323600-1489329900@sportverein-lauenbrueck.de
SUMMARY:VFL Visselhövede II - SV Lauenbrück
DESCRIPTION:
URL:https://sportverein-lauenbrueck.de/event/vfl-visselhoevede-ii-sv-lauenbrueck-2/
LOCATION:Sportplatz Visselhövede\, Celler Straße 50\, Visselhövede\, 27374\, Deutschland
END:VEVENT
BEGIN:VEVENT
DTSTART;TZID=Europe/Berlin:20170319T130000
DTEND;TZID=Europe/Berlin:20170319T144500
DTSTAMP:20260420T213355
CREATED:20170314T164445Z
LAST-MODIFIED:20170314T164445Z
UID:4122-1489928400-1489934700@sportverein-lauenbrueck.de
SUMMARY:SV Jeersdorf II - SV Lauenbrück II
DESCRIPTION:
URL:https://sportverein-lauenbrueck.de/event/sv-jeersdorf-ii-sv-lauenbrueck-ii-2/
LOCATION:Sportplatz Jeersdorf\, Luhner Weg\, Jeersdorf\, 27378
END:VEVENT
BEGIN:VEVENT
DTSTART;TZID=Europe/Berlin:20170319T150000
DTEND;TZID=Europe/Berlin:20170319T164500
DTSTAMP:20260420T213355
CREATED:20170314T164405Z
LAST-MODIFIED:20170314T164405Z
UID:4120-1489935600-1489941900@sportverein-lauenbrueck.de
SUMMARY:SV Jeersdorf - SV Lauenbrück
DESCRIPTION:
URL:https://sportverein-lauenbrueck.de/event/sv-jeersdorf-sv-lauenbrueck-2/
LOCATION:Sportplatz Jeersdorf\, Luhner Weg\, Jeersdorf\, 27378
END:VEVENT
BEGIN:VEVENT
DTSTART;TZID=Europe/Berlin:20170326T150000
DTEND;TZID=Europe/Berlin:20170326T164500
DTSTAMP:20260420T213355
CREATED:20170314T164531Z
LAST-MODIFIED:20170314T164531Z
UID:4124-1490540400-1490546700@sportverein-lauenbrueck.de
SUMMARY:SV Lauenbrück - SV Germania Hetzwege
DESCRIPTION:
URL:https://sportverein-lauenbrueck.de/event/sv-lauenbrueck-sv-germania-hetzwege/
LOCATION:Sportplatz Lauenbrück\, Am Sportplatz 1\, Lauenbrück\, Niedersachsen\, 27389\, Deutschland
END:VEVENT
END:VCALENDAR