BEGIN:VCALENDAR
VERSION:2.0
PRODID:-//Sportverein Lauenbrück - ECPv6.15.20//NONSGML v1.0//EN
CALSCALE:GREGORIAN
METHOD:PUBLISH
X-WR-CALNAME:Sportverein Lauenbrück
X-ORIGINAL-URL:https://sportverein-lauenbrueck.de
X-WR-CALDESC:Veranstaltungen für Sportverein Lauenbrück
REFRESH-INTERVAL;VALUE=DURATION:PT1H
X-Robots-Tag:noindex
X-PUBLISHED-TTL:PT1H
BEGIN:VTIMEZONE
TZID:Europe/Berlin
BEGIN:DAYLIGHT
TZOFFSETFROM:+0100
TZOFFSETTO:+0200
TZNAME:CEST
DTSTART:20160327T010000
END:DAYLIGHT
BEGIN:STANDARD
TZOFFSETFROM:+0200
TZOFFSETTO:+0100
TZNAME:CET
DTSTART:20161030T010000
END:STANDARD
BEGIN:DAYLIGHT
TZOFFSETFROM:+0100
TZOFFSETTO:+0200
TZNAME:CEST
DTSTART:20170326T010000
END:DAYLIGHT
BEGIN:STANDARD
TZOFFSETFROM:+0200
TZOFFSETTO:+0100
TZNAME:CET
DTSTART:20171029T010000
END:STANDARD
BEGIN:DAYLIGHT
TZOFFSETFROM:+0100
TZOFFSETTO:+0200
TZNAME:CEST
DTSTART:20180325T010000
END:DAYLIGHT
BEGIN:STANDARD
TZOFFSETFROM:+0200
TZOFFSETTO:+0100
TZNAME:CET
DTSTART:20181028T010000
END:STANDARD
END:VTIMEZONE
BEGIN:VEVENT
DTSTART;TZID=Europe/Berlin:20170219T140000
DTEND;TZID=Europe/Berlin:20170219T154500
DTSTAMP:20260420T213259
CREATED:20170213T123835Z
LAST-MODIFIED:20170213T123835Z
UID:4060-1487512800-1487519100@sportverein-lauenbrueck.de
SUMMARY:Testspiel: TSV Blender - SV Lauenbrück
DESCRIPTION:
URL:https://sportverein-lauenbrueck.de/event/testspiel-tsv-blender-sv-lauenbrueck/
LOCATION:Sportplatz Blender\, Lawischenweg 1\, Blender\, Niedersachsen\, 27337\, Deutschland
ATTACH;FMTTYPE=image/jpeg:https://sportverein-lauenbrueck.de/wp-content/uploads/2016/07/Testspiel.jpg
END:VEVENT
BEGIN:VEVENT
DTSTART;TZID=Europe/Berlin:20170221T193000
DTEND;TZID=Europe/Berlin:20170221T211500
DTSTAMP:20260420T213259
CREATED:20170131T190227Z
LAST-MODIFIED:20170131T190227Z
UID:4044-1487705400-1487711700@sportverein-lauenbrueck.de
SUMMARY:Testspiel: VFL Sittensen - SV Lauenbrück
DESCRIPTION:
URL:https://sportverein-lauenbrueck.de/event/testspiel-vfl-sittensen-sv-lauenbrueck/
LOCATION:Sportplatz Sittensen\, Am Sportplatz\, Sittensen\, Niedersachsen\, 27419\, Deutschland
ATTACH;FMTTYPE=image/jpeg:https://sportverein-lauenbrueck.de/wp-content/uploads/2016/07/Testspiel.jpg
END:VEVENT
BEGIN:VEVENT
DTSTART;TZID=Europe/Berlin:20170224T200000
DTEND;TZID=Europe/Berlin:20170224T210000
DTSTAMP:20260420T213259
CREATED:20170209T195551Z
LAST-MODIFIED:20170209T195551Z
UID:4053-1487966400-1487970000@sportverein-lauenbrueck.de
SUMMARY:Jahreshauptversammlung
DESCRIPTION:
URL:https://sportverein-lauenbrueck.de/event/jahreshauptversammlung-4/
LOCATION:Sporthaus\, Am Sportplatz 1\, Lauenbrück
END:VEVENT
BEGIN:VEVENT
DTSTART;TZID=Europe/Berlin:20170226T140000
DTEND;TZID=Europe/Berlin:20170226T154500
DTSTAMP:20260420T213259
CREATED:20170124T170955Z
LAST-MODIFIED:20170124T170955Z
UID:4036-1488117600-1488123900@sportverein-lauenbrueck.de
SUMMARY:Testspiel: SV Lauenbrück - Bartelsdorfer SV
DESCRIPTION:
URL:https://sportverein-lauenbrueck.de/event/testspiel-sv-lauenbrueck-bartelsdorfer-sv/
LOCATION:Sportplatz Lauenbrück\, Am Sportplatz 1\, Lauenbrück\, Niedersachsen\, 27389\, Deutschland
ATTACH;FMTTYPE=image/jpeg:https://sportverein-lauenbrueck.de/wp-content/uploads/2016/07/Testspiel.jpg
END:VEVENT
END:VCALENDAR