BEGIN:VCALENDAR
VERSION:2.0
PRODID:-//Sportverein Lauenbrück - ECPv6.15.20//NONSGML v1.0//EN
CALSCALE:GREGORIAN
METHOD:PUBLISH
X-WR-CALNAME:Sportverein Lauenbrück
X-ORIGINAL-URL:https://sportverein-lauenbrueck.de
X-WR-CALDESC:Veranstaltungen für Sportverein Lauenbrück
REFRESH-INTERVAL;VALUE=DURATION:PT1H
X-Robots-Tag:noindex
X-PUBLISHED-TTL:PT1H
BEGIN:VTIMEZONE
TZID:Europe/Berlin
BEGIN:DAYLIGHT
TZOFFSETFROM:+0100
TZOFFSETTO:+0200
TZNAME:CEST
DTSTART:20150329T010000
END:DAYLIGHT
BEGIN:STANDARD
TZOFFSETFROM:+0200
TZOFFSETTO:+0100
TZNAME:CET
DTSTART:20151025T010000
END:STANDARD
BEGIN:DAYLIGHT
TZOFFSETFROM:+0100
TZOFFSETTO:+0200
TZNAME:CEST
DTSTART:20160327T010000
END:DAYLIGHT
BEGIN:STANDARD
TZOFFSETFROM:+0200
TZOFFSETTO:+0100
TZNAME:CET
DTSTART:20161030T010000
END:STANDARD
BEGIN:DAYLIGHT
TZOFFSETFROM:+0100
TZOFFSETTO:+0200
TZNAME:CEST
DTSTART:20170326T010000
END:DAYLIGHT
BEGIN:STANDARD
TZOFFSETFROM:+0200
TZOFFSETTO:+0100
TZNAME:CET
DTSTART:20171029T010000
END:STANDARD
END:VTIMEZONE
BEGIN:VEVENT
DTSTART;TZID=Europe/Berlin:20161204T140000
DTEND;TZID=Europe/Berlin:20161204T154500
DTSTAMP:20260421T004435
CREATED:20161123T165423Z
LAST-MODIFIED:20161123T165423Z
UID:3968-1480860000-1480866300@sportverein-lauenbrueck.de
SUMMARY:SV Schwitschen - SV Lauenbrück
DESCRIPTION:
URL:https://sportverein-lauenbrueck.de/event/sv-schwitschen-sv-lauenbrueck-2/
LOCATION:Sportplatz Schwitschen\, Am Schwitscher Haus\, Schwitschen\, 27374\, Deutschland
END:VEVENT
BEGIN:VEVENT
DTSTART;VALUE=DATE:20161217
DTEND;VALUE=DATE:20161218
DTSTAMP:20260421T004435
CREATED:20161123T165534Z
LAST-MODIFIED:20161123T165619Z
UID:3970-1481932800-1481972400@sportverein-lauenbrueck.de
SUMMARY:Weihnachtsfeier Fußball
DESCRIPTION:
URL:https://sportverein-lauenbrueck.de/event/weihnachtsfeier-fussball-3/
LOCATION:Sportplatz FC Wenden\, Hauptstraße 46b\, Braunschweig\, 38110\, Deutschland
ATTACH;FMTTYPE=image/jpeg:https://sportverein-lauenbrueck.de/wp-content/uploads/2016/11/IMG_20161113_150433.jpg
END:VEVENT
END:VCALENDAR