BEGIN:VCALENDAR
VERSION:2.0
PRODID:-//Sportverein Lauenbrück - ECPv6.15.20//NONSGML v1.0//EN
CALSCALE:GREGORIAN
METHOD:PUBLISH
X-ORIGINAL-URL:https://sportverein-lauenbrueck.de
X-WR-CALDESC:Veranstaltungen für Sportverein Lauenbrück
REFRESH-INTERVAL;VALUE=DURATION:PT1H
X-Robots-Tag:noindex
X-PUBLISHED-TTL:PT1H
BEGIN:VTIMEZONE
TZID:Europe/Berlin
BEGIN:DAYLIGHT
TZOFFSETFROM:+0100
TZOFFSETTO:+0200
TZNAME:CEST
DTSTART:20150329T010000
END:DAYLIGHT
BEGIN:STANDARD
TZOFFSETFROM:+0200
TZOFFSETTO:+0100
TZNAME:CET
DTSTART:20151025T010000
END:STANDARD
BEGIN:DAYLIGHT
TZOFFSETFROM:+0100
TZOFFSETTO:+0200
TZNAME:CEST
DTSTART:20160327T010000
END:DAYLIGHT
BEGIN:STANDARD
TZOFFSETFROM:+0200
TZOFFSETTO:+0100
TZNAME:CET
DTSTART:20161030T010000
END:STANDARD
BEGIN:DAYLIGHT
TZOFFSETFROM:+0100
TZOFFSETTO:+0200
TZNAME:CEST
DTSTART:20170326T010000
END:DAYLIGHT
BEGIN:STANDARD
TZOFFSETFROM:+0200
TZOFFSETTO:+0100
TZNAME:CET
DTSTART:20171029T010000
END:STANDARD
END:VTIMEZONE
BEGIN:VEVENT
DTSTART;TZID=Europe/Berlin:20161106T140000
DTEND;TZID=Europe/Berlin:20161106T154500
DTSTAMP:20260421T022110
CREATED:20161101T104246Z
LAST-MODIFIED:20161101T104246Z
UID:3939-1478440800-1478447100@sportverein-lauenbrueck.de
SUMMARY:SV Lauenbrück - TuS Mulmshorn
DESCRIPTION:
URL:https://sportverein-lauenbrueck.de/event/sv-lauenbrueck-tus-mulmshorn/
LOCATION:Sportplatz Lauenbrück\, Am Sportplatz 1\, Lauenbrück\, Niedersachsen\, 27389\, Deutschland
END:VEVENT
BEGIN:VEVENT
DTSTART;TZID=Europe/Berlin:20161113T120000
DTEND;TZID=Europe/Berlin:20161113T134500
DTSTAMP:20260421T022110
CREATED:20161101T104338Z
LAST-MODIFIED:20161101T104338Z
UID:3941-1479038400-1479044700@sportverein-lauenbrueck.de
SUMMARY:SV RW Scheeßel II - SV Lauenbrück
DESCRIPTION:
URL:https://sportverein-lauenbrueck.de/event/sv-rw-scheessel-ii-sv-lauenbrueck/
LOCATION:Sportplatz Scheeßel\, Helvesieker Weg\, Scheeßel\, Niedersachen\, 27383\, Deutschland
END:VEVENT
BEGIN:VEVENT
DTSTART;TZID=Europe/Berlin:20161120T140000
DTEND;TZID=Europe/Berlin:20161120T154500
DTSTAMP:20260421T022110
CREATED:20161101T104425Z
LAST-MODIFIED:20161101T104425Z
UID:3943-1479650400-1479656700@sportverein-lauenbrueck.de
SUMMARY:SV Schwitschen - SV Lauenbrück
DESCRIPTION:
URL:https://sportverein-lauenbrueck.de/event/sv-schwitschen-sv-lauenbrueck/
LOCATION:Sportplatz Schwitschen\, Am Schwitscher Haus\, Schwitschen\, 27374\, Deutschland
END:VEVENT
BEGIN:VEVENT
DTSTART;TZID=Europe/Berlin:20161127T140000
DTEND;TZID=Europe/Berlin:20161127T154500
DTSTAMP:20260421T022110
CREATED:20161101T104519Z
LAST-MODIFIED:20161101T104519Z
UID:3945-1480255200-1480261500@sportverein-lauenbrueck.de
SUMMARY:SV Lauenbrück - SSV Wittorf
DESCRIPTION:
URL:https://sportverein-lauenbrueck.de/event/sv-lauenbrueck-ssv-wittorf-2/
LOCATION:Sportplatz Lauenbrück\, Am Sportplatz 1\, Lauenbrück\, Niedersachsen\, 27389\, Deutschland
END:VEVENT
END:VCALENDAR