BEGIN:VCALENDAR
VERSION:2.0
PRODID:-//Sportverein Lauenbrück - ECPv6.15.20//NONSGML v1.0//EN
CALSCALE:GREGORIAN
METHOD:PUBLISH
X-ORIGINAL-URL:https://sportverein-lauenbrueck.de
X-WR-CALDESC:Veranstaltungen für Sportverein Lauenbrück
REFRESH-INTERVAL;VALUE=DURATION:PT1H
X-Robots-Tag:noindex
X-PUBLISHED-TTL:PT1H
BEGIN:VTIMEZONE
TZID:Europe/Berlin
BEGIN:DAYLIGHT
TZOFFSETFROM:+0100
TZOFFSETTO:+0200
TZNAME:CEST
DTSTART:20150329T010000
END:DAYLIGHT
BEGIN:STANDARD
TZOFFSETFROM:+0200
TZOFFSETTO:+0100
TZNAME:CET
DTSTART:20151025T010000
END:STANDARD
BEGIN:DAYLIGHT
TZOFFSETFROM:+0100
TZOFFSETTO:+0200
TZNAME:CEST
DTSTART:20160327T010000
END:DAYLIGHT
BEGIN:STANDARD
TZOFFSETFROM:+0200
TZOFFSETTO:+0100
TZNAME:CET
DTSTART:20161030T010000
END:STANDARD
BEGIN:DAYLIGHT
TZOFFSETFROM:+0100
TZOFFSETTO:+0200
TZNAME:CEST
DTSTART:20170326T010000
END:DAYLIGHT
BEGIN:STANDARD
TZOFFSETFROM:+0200
TZOFFSETTO:+0100
TZNAME:CET
DTSTART:20171029T010000
END:STANDARD
END:VTIMEZONE
BEGIN:VEVENT
DTSTART;TZID=Europe/Berlin:20160907T200000
DTEND;TZID=Europe/Berlin:20160907T214500
DTSTAMP:20260421T052745
CREATED:20160822T223350Z
LAST-MODIFIED:20160822T223350Z
UID:3814-1473278400-1473284700@sportverein-lauenbrueck.de
SUMMARY:SV Lauenbrück II - SV Jeersdorf II
DESCRIPTION:
URL:https://sportverein-lauenbrueck.de/event/sv-lauenbrueck-ii-sv-jeersdorf-ii/
LOCATION:Sportplatz Lauenbrück\, Am Sportplatz 1\, Lauenbrück\, Niedersachsen\, 27389\, Deutschland
END:VEVENT
BEGIN:VEVENT
DTSTART;TZID=Europe/Berlin:20160909T200000
DTEND;TZID=Europe/Berlin:20160909T214500
DTSTAMP:20260421T052745
CREATED:20160822T222904Z
LAST-MODIFIED:20160822T222904Z
UID:3809-1473451200-1473457500@sportverein-lauenbrueck.de
SUMMARY:SV Lauenbrück - SV Jeersdorf
DESCRIPTION:
URL:https://sportverein-lauenbrueck.de/event/sv-lauenbrueck-sv-jeersdorf-3/
LOCATION:Sportplatz Lauenbrück\, Am Sportplatz 1\, Lauenbrück\, Niedersachsen\, 27389\, Deutschland
END:VEVENT
BEGIN:VEVENT
DTSTART;TZID=Europe/Berlin:20160918T150000
DTEND;TZID=Europe/Berlin:20160918T164500
DTSTAMP:20260421T052745
CREATED:20160822T223004Z
LAST-MODIFIED:20160822T223004Z
UID:3810-1474210800-1474217100@sportverein-lauenbrueck.de
SUMMARY:SV Germ. Hetzwege/A. - SV Lauenbrück
DESCRIPTION:
URL:https://sportverein-lauenbrueck.de/event/sv-germ-hetzwegea-sv-lauenbrueck/
LOCATION:Sportplatz Hetzwege\, Hoffreeg\, Hetzwege\, 27383\, Deutschland
END:VEVENT
BEGIN:VEVENT
DTSTART;TZID=Europe/Berlin:20160925T150000
DTEND;TZID=Europe/Berlin:20160925T164500
DTSTAMP:20260421T052745
CREATED:20160822T223100Z
LAST-MODIFIED:20160822T223100Z
UID:3811-1474815600-1474821900@sportverein-lauenbrueck.de
SUMMARY:SV Lauenbrück - TuS Bothel II
DESCRIPTION:
URL:https://sportverein-lauenbrueck.de/event/sv-lauenbrueck-tus-bothel-ii-2/
LOCATION:Sportplatz Lauenbrück\, Am Sportplatz 1\, Lauenbrück\, Niedersachsen\, 27389\, Deutschland
END:VEVENT
END:VCALENDAR