BEGIN:VCALENDAR
VERSION:2.0
PRODID:-//Sportverein Lauenbrück - ECPv6.15.20//NONSGML v1.0//EN
CALSCALE:GREGORIAN
METHOD:PUBLISH
X-ORIGINAL-URL:https://sportverein-lauenbrueck.de
X-WR-CALDESC:Veranstaltungen für Sportverein Lauenbrück
REFRESH-INTERVAL;VALUE=DURATION:PT1H
X-Robots-Tag:noindex
X-PUBLISHED-TTL:PT1H
BEGIN:VTIMEZONE
TZID:Europe/Berlin
BEGIN:DAYLIGHT
TZOFFSETFROM:+0100
TZOFFSETTO:+0200
TZNAME:CEST
DTSTART:20140330T010000
END:DAYLIGHT
BEGIN:STANDARD
TZOFFSETFROM:+0200
TZOFFSETTO:+0100
TZNAME:CET
DTSTART:20141026T010000
END:STANDARD
BEGIN:DAYLIGHT
TZOFFSETFROM:+0100
TZOFFSETTO:+0200
TZNAME:CEST
DTSTART:20150329T010000
END:DAYLIGHT
BEGIN:STANDARD
TZOFFSETFROM:+0200
TZOFFSETTO:+0100
TZNAME:CET
DTSTART:20151025T010000
END:STANDARD
BEGIN:DAYLIGHT
TZOFFSETFROM:+0100
TZOFFSETTO:+0200
TZNAME:CEST
DTSTART:20160327T010000
END:DAYLIGHT
BEGIN:STANDARD
TZOFFSETFROM:+0200
TZOFFSETTO:+0100
TZNAME:CET
DTSTART:20161030T010000
END:STANDARD
END:VTIMEZONE
BEGIN:VEVENT
DTSTART;TZID=Europe/Berlin:20151101T120000
DTEND;TZID=Europe/Berlin:20151101T134500
DTSTAMP:20260425T172847
CREATED:20151027T170601Z
LAST-MODIFIED:20151027T170601Z
UID:3296-1446379200-1446385500@sportverein-lauenbrueck.de
SUMMARY:VFL Visselhövede II - SV Lauenbrück
DESCRIPTION:
URL:https://sportverein-lauenbrueck.de/event/vfl-visselhoevede-ii-sv-lauenbrueck/
LOCATION:Sportplatz Visselhövede\, Celler Straße 50\, Visselhövede\, 27374\, Deutschland
END:VEVENT
BEGIN:VEVENT
DTSTART;TZID=Europe/Berlin:20151108T120000
DTEND;TZID=Europe/Berlin:20151108T134500
DTSTAMP:20260425T172847
CREATED:20151027T170756Z
LAST-MODIFIED:20151027T170756Z
UID:3297-1446984000-1446990300@sportverein-lauenbrueck.de
SUMMARY:SV Lauenbrück II - SV Vikt. Oldendorf II
DESCRIPTION:
URL:https://sportverein-lauenbrueck.de/event/sv-lauenbrueck-ii-sv-vikt-oldendorf-ii/
LOCATION:Sportplatz Lauenbrück\, Am Sportplatz 1\, Lauenbrück\, Niedersachsen\, 27389\, Deutschland
ATTACH;FMTTYPE=image/jpeg:https://sportverein-lauenbrueck.de/wp-content/uploads/2013/08/4._kreisklasse.jpg
END:VEVENT
BEGIN:VEVENT
DTSTART;TZID=Europe/Berlin:20151108T140000
DTEND;TZID=Europe/Berlin:20151108T154500
DTSTAMP:20260425T172847
CREATED:20151027T170924Z
LAST-MODIFIED:20151027T170924Z
UID:3298-1446991200-1446997500@sportverein-lauenbrueck.de
SUMMARY:TuS Hellwege - SV Lauenbrück
DESCRIPTION:
URL:https://sportverein-lauenbrueck.de/event/tus-hellwege-sv-lauenbrueck/
LOCATION:Sportplatz Hellwege\, Ahauserstraße\, Hellwege\, 27367\, Deutschland
END:VEVENT
BEGIN:VEVENT
DTSTART;TZID=Europe/Berlin:20151115T120000
DTEND;TZID=Europe/Berlin:20151115T134500
DTSTAMP:20260425T172847
CREATED:20151113T105754Z
LAST-MODIFIED:20151113T105754Z
UID:3305-1447588800-1447595100@sportverein-lauenbrueck.de
SUMMARY:SV Lauenbrück II - SV Germ. Hetzwege II
DESCRIPTION:
URL:https://sportverein-lauenbrueck.de/event/sv-lauenbrueck-ii-sv-germ-hetzwege-ii/
LOCATION:Sportplatz Lauenbrück\, Am Sportplatz 1\, Lauenbrück\, Niedersachsen\, 27389\, Deutschland
ATTACH;FMTTYPE=image/jpeg:https://sportverein-lauenbrueck.de/wp-content/uploads/2013/08/4._kreisklasse.jpg
END:VEVENT
BEGIN:VEVENT
DTSTART;TZID=Europe/Berlin:20151115T140000
DTEND;TZID=Europe/Berlin:20151115T154500
DTSTAMP:20260425T172847
CREATED:20151113T105245Z
LAST-MODIFIED:20151113T105245Z
UID:3301-1447596000-1447602300@sportverein-lauenbrueck.de
SUMMARY:SV Lauenbrück - Fort. Rotenburg
DESCRIPTION:
URL:https://sportverein-lauenbrueck.de/event/sv-lauenbrueck-fort-rotenburg/
LOCATION:Sportplatz Lauenbrück\, Am Sportplatz 1\, Lauenbrück\, Niedersachsen\, 27389\, Deutschland
END:VEVENT
BEGIN:VEVENT
DTSTART;TZID=Europe/Berlin:20151122T140000
DTEND;TZID=Europe/Berlin:20151122T154500
DTSTAMP:20260425T172847
CREATED:20151113T105356Z
LAST-MODIFIED:20151113T105356Z
UID:3302-1448200800-1448207100@sportverein-lauenbrueck.de
SUMMARY:SV Lauenbrück - FC Walsede II
DESCRIPTION:
URL:https://sportverein-lauenbrueck.de/event/sv-lauenbrueck-fc-walsede-ii-2/
LOCATION:Sportplatz Lauenbrück\, Am Sportplatz 1\, Lauenbrück\, Niedersachsen\, 27389\, Deutschland
END:VEVENT
BEGIN:VEVENT
DTSTART;TZID=Europe/Berlin:20151129T140000
DTEND;TZID=Europe/Berlin:20151129T154500
DTSTAMP:20260425T172847
CREATED:20151113T105457Z
LAST-MODIFIED:20151113T105457Z
UID:3303-1448805600-1448811900@sportverein-lauenbrueck.de
SUMMARY:SSV Wittorf - SV Lauenbrück
DESCRIPTION:
URL:https://sportverein-lauenbrueck.de/event/ssv-wittorf-sv-lauenbrueck/
LOCATION:Sportplatz Wittorf\, Dieckkamp\, Visselhövede\, 27374\, Deutschland
END:VEVENT
BEGIN:VEVENT
DTSTART;TZID=Europe/Berlin:20151129T140000
DTEND;TZID=Europe/Berlin:20151129T154500
DTSTAMP:20260425T172847
CREATED:20151113T110044Z
LAST-MODIFIED:20151113T110044Z
UID:3306-1448805600-1448811900@sportverein-lauenbrueck.de
SUMMARY:Bremervörde SC IV - SV Lauenbrück II
DESCRIPTION:
URL:https://sportverein-lauenbrueck.de/event/bremervoerde-sc-iv-sv-lauenbrueck-ii/
LOCATION:Sportplatz Bremervörde\, Am Schützenpark\, Bremervörde\, Niedersachsen\, 27432\, Deutschland
ATTACH;FMTTYPE=image/jpeg:https://sportverein-lauenbrueck.de/wp-content/uploads/2013/08/4._kreisklasse.jpg
END:VEVENT
END:VCALENDAR