BEGIN:VCALENDAR
VERSION:2.0
PRODID:-//Sportverein Lauenbrück - ECPv6.15.20//NONSGML v1.0//EN
CALSCALE:GREGORIAN
METHOD:PUBLISH
X-WR-CALNAME:Sportverein Lauenbrück
X-ORIGINAL-URL:https://sportverein-lauenbrueck.de
X-WR-CALDESC:Veranstaltungen für Sportverein Lauenbrück
REFRESH-INTERVAL;VALUE=DURATION:PT1H
X-Robots-Tag:noindex
X-PUBLISHED-TTL:PT1H
BEGIN:VTIMEZONE
TZID:Europe/Berlin
BEGIN:DAYLIGHT
TZOFFSETFROM:+0100
TZOFFSETTO:+0200
TZNAME:CEST
DTSTART:20140330T010000
END:DAYLIGHT
BEGIN:STANDARD
TZOFFSETFROM:+0200
TZOFFSETTO:+0100
TZNAME:CET
DTSTART:20141026T010000
END:STANDARD
BEGIN:DAYLIGHT
TZOFFSETFROM:+0100
TZOFFSETTO:+0200
TZNAME:CEST
DTSTART:20150329T010000
END:DAYLIGHT
BEGIN:STANDARD
TZOFFSETFROM:+0200
TZOFFSETTO:+0100
TZNAME:CET
DTSTART:20151025T010000
END:STANDARD
BEGIN:DAYLIGHT
TZOFFSETFROM:+0100
TZOFFSETTO:+0200
TZNAME:CEST
DTSTART:20160327T010000
END:DAYLIGHT
BEGIN:STANDARD
TZOFFSETFROM:+0200
TZOFFSETTO:+0100
TZNAME:CET
DTSTART:20161030T010000
END:STANDARD
END:VTIMEZONE
BEGIN:VEVENT
DTSTART;TZID=Europe/Berlin:20150802T150000
DTEND;TZID=Europe/Berlin:20150802T164500
DTSTAMP:20260425T215059
CREATED:20150722T101543Z
LAST-MODIFIED:20150722T101543Z
UID:3201-1438527600-1438533900@sportverein-lauenbrueck.de
SUMMARY:Testspiel: SV Lauenbrück - TuS Hemslingen
DESCRIPTION:
URL:https://sportverein-lauenbrueck.de/event/testspiel-sv-lauenbrueck-tus-hemslingen/
LOCATION:Sportplatz Lauenbrück\, Am Sportplatz 1\, Lauenbrück\, Niedersachsen\, 27389\, Deutschland
ATTACH;FMTTYPE=image/jpeg:https://sportverein-lauenbrueck.de/wp-content/uploads/2013/07/freundschaftsspiel.jpg
END:VEVENT
BEGIN:VEVENT
DTSTART;TZID=Europe/Berlin:20150816T130000
DTEND;TZID=Europe/Berlin:20150816T144500
DTSTAMP:20260425T215059
CREATED:20150722T102418Z
LAST-MODIFIED:20150722T102418Z
UID:3204-1439730000-1439736300@sportverein-lauenbrueck.de
SUMMARY:SV Lauenbrück II - SV Horstedt II
DESCRIPTION:
URL:https://sportverein-lauenbrueck.de/event/sv-lauenbrueck-ii-sv-horstedt-ii/
LOCATION:Sportplatz Lauenbrück\, Am Sportplatz 1\, Lauenbrück\, Niedersachsen\, 27389\, Deutschland
ATTACH;FMTTYPE=image/jpeg:https://sportverein-lauenbrueck.de/wp-content/uploads/2013/08/4._kreisklasse.jpg
END:VEVENT
BEGIN:VEVENT
DTSTART;TZID=Europe/Berlin:20150816T150000
DTEND;TZID=Europe/Berlin:20150816T164500
DTSTAMP:20260425T215059
CREATED:20150722T102044Z
LAST-MODIFIED:20150722T102044Z
UID:3202-1439737200-1439743500@sportverein-lauenbrueck.de
SUMMARY:SV Lauenbrück - TuS Brockel
DESCRIPTION:
URL:https://sportverein-lauenbrueck.de/event/sv-lauenbrueck-tus-brockel-2/
LOCATION:Niedersachsen
END:VEVENT
BEGIN:VEVENT
DTSTART;TZID=Europe/Berlin:20150819T190000
DTEND;TZID=Europe/Berlin:20150819T204500
DTSTAMP:20260425T215059
CREATED:20150722T102235Z
LAST-MODIFIED:20150722T102235Z
UID:3203-1440010800-1440017100@sportverein-lauenbrueck.de
SUMMARY:Kreispokal: TuS Hellwege - SV Lauenbrück
DESCRIPTION:
URL:https://sportverein-lauenbrueck.de/event/kreispokal-tus-hellwege-sv-lauenbrueck/
LOCATION:Sportplatz Hellwege\, Ahauserstraße\, Hellwege\, 27367\, Deutschland
END:VEVENT
BEGIN:VEVENT
DTSTART;TZID=Europe/Berlin:20150823T130000
DTEND;TZID=Europe/Berlin:20150823T144500
DTSTAMP:20260425T215059
CREATED:20150722T103619Z
LAST-MODIFIED:20150722T103619Z
UID:3205-1440334800-1440341100@sportverein-lauenbrueck.de
SUMMARY:SV Lauenbrück II - SV Ippensen III
DESCRIPTION:
URL:https://sportverein-lauenbrueck.de/event/sv-lauenbrueck-ii-sv-ippensen-iii/
LOCATION:Sportplatz Lauenbrück\, Am Sportplatz 1\, Lauenbrück\, Niedersachsen\, 27389\, Deutschland
ATTACH;FMTTYPE=image/jpeg:https://sportverein-lauenbrueck.de/wp-content/uploads/2013/08/4._kreisklasse.jpg
END:VEVENT
BEGIN:VEVENT
DTSTART;TZID=Europe/Berlin:20150823T130000
DTEND;TZID=Europe/Berlin:20150823T144500
DTSTAMP:20260425T215059
CREATED:20150722T103928Z
LAST-MODIFIED:20150722T103928Z
UID:3207-1440334800-1440341100@sportverein-lauenbrueck.de
SUMMARY:FC Walsede II - SV Lauenbrück
DESCRIPTION:
URL:https://sportverein-lauenbrueck.de/event/fc-walsede-ii-sv-lauenbrueck-2/
LOCATION:Sportplatz Westerwalsede
END:VEVENT
BEGIN:VEVENT
DTSTART;TZID=Europe/Berlin:20150830T130000
DTEND;TZID=Europe/Berlin:20150830T144500
DTSTAMP:20260425T215059
CREATED:20150722T103736Z
LAST-MODIFIED:20150722T103736Z
UID:3206-1440939600-1440945900@sportverein-lauenbrueck.de
SUMMARY:SV Lauenbrück II - RW Scheeßel III
DESCRIPTION:
URL:https://sportverein-lauenbrueck.de/event/sv-lauenbrueck-ii-rw-scheessel-iii/
LOCATION:Sportplatz Lauenbrück\, Am Sportplatz 1\, Lauenbrück\, Niedersachsen\, 27389\, Deutschland
ATTACH;FMTTYPE=image/jpeg:https://sportverein-lauenbrueck.de/wp-content/uploads/2013/08/4._kreisklasse.jpg
END:VEVENT
BEGIN:VEVENT
DTSTART;TZID=Europe/Berlin:20150830T150000
DTEND;TZID=Europe/Berlin:20150830T164500
DTSTAMP:20260425T215059
CREATED:20150722T104045Z
LAST-MODIFIED:20150722T104045Z
UID:3208-1440946800-1440953100@sportverein-lauenbrueck.de
SUMMARY:SV Lauenbrück - SSV Wittorf
DESCRIPTION:
URL:https://sportverein-lauenbrueck.de/event/sv-lauenbrueck-ssv-wittorf/
LOCATION:Sportplatz Lauenbrück\, Am Sportplatz 1\, Lauenbrück\, Niedersachsen\, 27389\, Deutschland
END:VEVENT
END:VCALENDAR