BEGIN:VCALENDAR
VERSION:2.0
PRODID:-//Sportverein Lauenbrück - ECPv6.15.20//NONSGML v1.0//EN
CALSCALE:GREGORIAN
METHOD:PUBLISH
X-WR-CALNAME:Sportverein Lauenbrück
X-ORIGINAL-URL:https://sportverein-lauenbrueck.de
X-WR-CALDESC:Veranstaltungen für Sportverein Lauenbrück
REFRESH-INTERVAL;VALUE=DURATION:PT1H
X-Robots-Tag:noindex
X-PUBLISHED-TTL:PT1H
BEGIN:VTIMEZONE
TZID:Europe/Berlin
BEGIN:DAYLIGHT
TZOFFSETFROM:+0100
TZOFFSETTO:+0200
TZNAME:CEST
DTSTART:20150329T010000
END:DAYLIGHT
BEGIN:STANDARD
TZOFFSETFROM:+0200
TZOFFSETTO:+0100
TZNAME:CET
DTSTART:20151025T010000
END:STANDARD
BEGIN:DAYLIGHT
TZOFFSETFROM:+0100
TZOFFSETTO:+0200
TZNAME:CEST
DTSTART:20160327T010000
END:DAYLIGHT
BEGIN:STANDARD
TZOFFSETFROM:+0200
TZOFFSETTO:+0100
TZNAME:CET
DTSTART:20161030T010000
END:STANDARD
BEGIN:DAYLIGHT
TZOFFSETFROM:+0100
TZOFFSETTO:+0200
TZNAME:CEST
DTSTART:20170326T010000
END:DAYLIGHT
BEGIN:STANDARD
TZOFFSETFROM:+0200
TZOFFSETTO:+0100
TZNAME:CET
DTSTART:20171029T010000
END:STANDARD
END:VTIMEZONE
BEGIN:VEVENT
DTSTART;TZID=Europe/Berlin:20160828T130000
DTEND;TZID=Europe/Berlin:20160828T144500
DTSTAMP:20260421T082936
CREATED:20160822T223254Z
LAST-MODIFIED:20160822T223254Z
UID:3813-1472389200-1472395500@sportverein-lauenbrueck.de
SUMMARY:SG Unterstedt III - SV Lauenbrück II
DESCRIPTION:
URL:https://sportverein-lauenbrueck.de/event/sg-unterstedt-iii-sv-lauenbrueck-ii/
LOCATION:Sportplatz Unterstedt\, Am Schützenholz 18\, Unterstedt\, 27356\, Deutschland
END:VEVENT
BEGIN:VEVENT
DTSTART;TZID=Europe/Berlin:20160828T150000
DTEND;TZID=Europe/Berlin:20160828T164500
DTSTAMP:20260421T082936
CREATED:20160822T222755Z
LAST-MODIFIED:20160822T222755Z
UID:3808-1472396400-1472402700@sportverein-lauenbrueck.de
SUMMARY:SSV Wittorf - SV Lauenbrück
DESCRIPTION:
URL:https://sportverein-lauenbrueck.de/event/ssv-wittorf-sv-lauenbrueck-2/
LOCATION:Sportplatz Wittorf\, Dieckkamp\, Visselhövede\, 27374\, Deutschland
END:VEVENT
END:VCALENDAR