BEGIN:VCALENDAR
VERSION:2.0
PRODID:-//Sportverein Lauenbrück - ECPv6.15.20//NONSGML v1.0//EN
CALSCALE:GREGORIAN
METHOD:PUBLISH
X-ORIGINAL-URL:https://sportverein-lauenbrueck.de
X-WR-CALDESC:Veranstaltungen für Sportverein Lauenbrück
REFRESH-INTERVAL;VALUE=DURATION:PT1H
X-Robots-Tag:noindex
X-PUBLISHED-TTL:PT1H
BEGIN:VTIMEZONE
TZID:Europe/Berlin
BEGIN:DAYLIGHT
TZOFFSETFROM:+0100
TZOFFSETTO:+0200
TZNAME:CEST
DTSTART:20150329T010000
END:DAYLIGHT
BEGIN:STANDARD
TZOFFSETFROM:+0200
TZOFFSETTO:+0100
TZNAME:CET
DTSTART:20151025T010000
END:STANDARD
BEGIN:DAYLIGHT
TZOFFSETFROM:+0100
TZOFFSETTO:+0200
TZNAME:CEST
DTSTART:20160327T010000
END:DAYLIGHT
BEGIN:STANDARD
TZOFFSETFROM:+0200
TZOFFSETTO:+0100
TZNAME:CET
DTSTART:20161030T010000
END:STANDARD
BEGIN:DAYLIGHT
TZOFFSETFROM:+0100
TZOFFSETTO:+0200
TZNAME:CEST
DTSTART:20170326T010000
END:DAYLIGHT
BEGIN:STANDARD
TZOFFSETFROM:+0200
TZOFFSETTO:+0100
TZNAME:CET
DTSTART:20171029T010000
END:STANDARD
END:VTIMEZONE
BEGIN:VEVENT
DTSTART;TZID=Europe/Berlin:20160814T130000
DTEND;TZID=Europe/Berlin:20160814T144500
DTSTAMP:20260421T083102
CREATED:20160708T162654Z
LAST-MODIFIED:20160708T162722Z
UID:3713-1471179600-1471185900@sportverein-lauenbrueck.de
SUMMARY:Ligaspiel: FSV Hesedorf/Nartum III - SV Lauenbrück II
DESCRIPTION:
URL:https://sportverein-lauenbrueck.de/event/fsv-hesedorfnartum-iii-sv-lauenbrueck-ii/
LOCATION:Sportplatz Gyhum\, Am Sportplatz \, Gyhum\, 27404
END:VEVENT
BEGIN:VEVENT
DTSTART;TZID=Europe/Berlin:20160814T150000
DTEND;TZID=Europe/Berlin:20160814T164500
DTSTAMP:20260421T083102
CREATED:20160708T160558Z
LAST-MODIFIED:20160708T160611Z
UID:3701-1471186800-1471193100@sportverein-lauenbrueck.de
SUMMARY:Ligaspiel: SV Taaken - SV Lauenbrück
DESCRIPTION:
URL:https://sportverein-lauenbrueck.de/event/sv-taaken-sv-lauenbrueck/
LOCATION:Sportplatz Taaken\, Schulstraße\, Taaken\, 27367\, Deutschland
END:VEVENT
END:VCALENDAR