BEGIN:VCALENDAR
VERSION:2.0
PRODID:-//Sportverein Lauenbrück - ECPv6.15.20//NONSGML v1.0//EN
CALSCALE:GREGORIAN
METHOD:PUBLISH
X-ORIGINAL-URL:https://sportverein-lauenbrueck.de
X-WR-CALDESC:Veranstaltungen für Sportverein Lauenbrück
REFRESH-INTERVAL;VALUE=DURATION:PT1H
X-Robots-Tag:noindex
X-PUBLISHED-TTL:PT1H
BEGIN:VTIMEZONE
TZID:Europe/Berlin
BEGIN:DAYLIGHT
TZOFFSETFROM:+0100
TZOFFSETTO:+0200
TZNAME:CEST
DTSTART:20140330T010000
END:DAYLIGHT
BEGIN:STANDARD
TZOFFSETFROM:+0200
TZOFFSETTO:+0100
TZNAME:CET
DTSTART:20141026T010000
END:STANDARD
BEGIN:DAYLIGHT
TZOFFSETFROM:+0100
TZOFFSETTO:+0200
TZNAME:CEST
DTSTART:20150329T010000
END:DAYLIGHT
BEGIN:STANDARD
TZOFFSETFROM:+0200
TZOFFSETTO:+0100
TZNAME:CET
DTSTART:20151025T010000
END:STANDARD
BEGIN:DAYLIGHT
TZOFFSETFROM:+0100
TZOFFSETTO:+0200
TZNAME:CEST
DTSTART:20160327T010000
END:DAYLIGHT
BEGIN:STANDARD
TZOFFSETFROM:+0200
TZOFFSETTO:+0100
TZNAME:CET
DTSTART:20161030T010000
END:STANDARD
END:VTIMEZONE
BEGIN:VEVENT
DTSTART;TZID=Europe/Berlin:20150523T150000
DTEND;TZID=Europe/Berlin:20150525T170000
DTSTAMP:20260426T033159
CREATED:20150511T111802Z
LAST-MODIFIED:20150511T111802Z
UID:3061-1432393200-1432573200@sportverein-lauenbrueck.de
SUMMARY:Passow 2015
DESCRIPTION:
URL:https://sportverein-lauenbrueck.de/event/passow-2015/
LOCATION:Sportanlage Passow\, Am Sportplatz\, Welsebruch OT Passow\, 16306\, Deutschland
ATTACH;FMTTYPE=image/png:https://sportverein-lauenbrueck.de/wp-content/uploads/2013/06/992908_488642971210940_21260988_n.png
END:VEVENT
END:VCALENDAR