BEGIN:VCALENDAR
VERSION:2.0
PRODID:-//Sportverein Lauenbrück - ECPv6.15.20//NONSGML v1.0//EN
CALSCALE:GREGORIAN
METHOD:PUBLISH
X-WR-CALNAME:Sportverein Lauenbrück
X-ORIGINAL-URL:https://sportverein-lauenbrueck.de
X-WR-CALDESC:Veranstaltungen für Sportverein Lauenbrück
REFRESH-INTERVAL;VALUE=DURATION:PT1H
X-Robots-Tag:noindex
X-PUBLISHED-TTL:PT1H
BEGIN:VTIMEZONE
TZID:Europe/Berlin
BEGIN:DAYLIGHT
TZOFFSETFROM:+0100
TZOFFSETTO:+0200
TZNAME:CEST
DTSTART:20140330T010000
END:DAYLIGHT
BEGIN:STANDARD
TZOFFSETFROM:+0200
TZOFFSETTO:+0100
TZNAME:CET
DTSTART:20141026T010000
END:STANDARD
BEGIN:DAYLIGHT
TZOFFSETFROM:+0100
TZOFFSETTO:+0200
TZNAME:CEST
DTSTART:20150329T010000
END:DAYLIGHT
BEGIN:STANDARD
TZOFFSETFROM:+0200
TZOFFSETTO:+0100
TZNAME:CET
DTSTART:20151025T010000
END:STANDARD
BEGIN:DAYLIGHT
TZOFFSETFROM:+0100
TZOFFSETTO:+0200
TZNAME:CEST
DTSTART:20160327T010000
END:DAYLIGHT
BEGIN:STANDARD
TZOFFSETFROM:+0200
TZOFFSETTO:+0100
TZNAME:CET
DTSTART:20161030T010000
END:STANDARD
END:VTIMEZONE
BEGIN:VEVENT
DTSTART;TZID=Europe/Berlin:20150503T130000
DTEND;TZID=Europe/Berlin:20150503T144500
DTSTAMP:20260426T033554
CREATED:20150331T125116Z
LAST-MODIFIED:20150331T125116Z
UID:2915-1430658000-1430664300@sportverein-lauenbrueck.de
SUMMARY:RW Scheeßel II - SV Lauenbrück
DESCRIPTION:
URL:https://sportverein-lauenbrueck.de/event/rw-scheessel-ii-sv-lauenbrueck/
LOCATION:Sportplatz Scheeßel\, Helvesieker Weg\, Scheeßel\, Niedersachen\, 27383\, Deutschland
END:VEVENT
BEGIN:VEVENT
DTSTART;TZID=Europe/Berlin:20150503T130000
DTEND;TZID=Europe/Berlin:20150503T144500
DTSTAMP:20260426T033554
CREATED:20150331T125747Z
LAST-MODIFIED:20150331T125747Z
UID:2922-1430658000-1430664300@sportverein-lauenbrueck.de
SUMMARY:TuS Bothel III - SV Lauenbrück II
DESCRIPTION:
URL:https://sportverein-lauenbrueck.de/event/tus-bothel-iii-sv-lauenbrueck-ii/
LOCATION:Sportplatz Bothel
ATTACH;FMTTYPE=image/jpeg:https://sportverein-lauenbrueck.de/wp-content/uploads/2013/08/4._kreisklasse.jpg
END:VEVENT
END:VCALENDAR