BEGIN:VCALENDAR
VERSION:2.0
PRODID:-//Sportverein Lauenbrück - ECPv6.15.20//NONSGML v1.0//EN
CALSCALE:GREGORIAN
METHOD:PUBLISH
X-ORIGINAL-URL:https://sportverein-lauenbrueck.de
X-WR-CALDESC:Veranstaltungen für Sportverein Lauenbrück
REFRESH-INTERVAL;VALUE=DURATION:PT1H
X-Robots-Tag:noindex
X-PUBLISHED-TTL:PT1H
BEGIN:VTIMEZONE
TZID:Europe/Berlin
BEGIN:DAYLIGHT
TZOFFSETFROM:+0100
TZOFFSETTO:+0200
TZNAME:CEST
DTSTART:20140330T010000
END:DAYLIGHT
BEGIN:STANDARD
TZOFFSETFROM:+0200
TZOFFSETTO:+0100
TZNAME:CET
DTSTART:20141026T010000
END:STANDARD
BEGIN:DAYLIGHT
TZOFFSETFROM:+0100
TZOFFSETTO:+0200
TZNAME:CEST
DTSTART:20150329T010000
END:DAYLIGHT
BEGIN:STANDARD
TZOFFSETFROM:+0200
TZOFFSETTO:+0100
TZNAME:CET
DTSTART:20151025T010000
END:STANDARD
BEGIN:DAYLIGHT
TZOFFSETFROM:+0100
TZOFFSETTO:+0200
TZNAME:CEST
DTSTART:20160327T010000
END:DAYLIGHT
BEGIN:STANDARD
TZOFFSETFROM:+0200
TZOFFSETTO:+0100
TZNAME:CET
DTSTART:20161030T010000
END:STANDARD
END:VTIMEZONE
BEGIN:VEVENT
DTSTART;TZID=Europe/Berlin:20150412T130000
DTEND;TZID=Europe/Berlin:20150412T144500
DTSTAMP:20260426T044629
CREATED:20150222T134032Z
LAST-MODIFIED:20150222T134032Z
UID:2816-1428843600-1428849900@sportverein-lauenbrueck.de
SUMMARY:MTV Jeddingen III - SV Lauenbrück II
DESCRIPTION:
URL:https://sportverein-lauenbrueck.de/event/mtv-jeddingen-iii-sv-lauenbrueck-ii/
LOCATION:Sportplatz Jeddingen\, Bremer Straße\, Visselhövede\, 27374\, Deutschland
ATTACH;FMTTYPE=image/jpeg:https://sportverein-lauenbrueck.de/wp-content/uploads/2013/08/4._kreisklasse.jpg
END:VEVENT
BEGIN:VEVENT
DTSTART;TZID=Europe/Berlin:20150412T150000
DTEND;TZID=Europe/Berlin:20150412T164500
DTSTAMP:20260426T044629
CREATED:20150222T133336Z
LAST-MODIFIED:20150222T133336Z
UID:2812-1428850800-1428857100@sportverein-lauenbrueck.de
SUMMARY:Fortuna Rotenburg - SV Lauenbrück
DESCRIPTION:
URL:https://sportverein-lauenbrueck.de/event/fortuna-rotenburg-sv-lauenbrueck/
LOCATION:Sportplatz Rotenburg\, In der Ahe \, Rotenburg/Wümme\, 27356\, Deutschland
END:VEVENT
END:VCALENDAR